Package: omicade4 Version: 1.50.0 Command: /home/biocbuild/bbs-3.22-bioc/R/bin/R CMD INSTALL omicade4 StartedAt: 2025-11-11 15:25:14 -0500 (Tue, 11 Nov 2025) EndedAt: 2025-11-11 15:25:34 -0500 (Tue, 11 Nov 2025) EllapsedTime: 20.1 seconds RetCode: 0 Status: OK