Package: omicade4 Version: 1.48.0 Command: rm -rf omicade4.buildbin-libdir && mkdir omicade4.buildbin-libdir && /Users/biocbuild/BBS/utils/build-universal.sh omicade4_1.48.0.tar.gz /Library/Frameworks/R.framework/Resources/bin/R omicade4.buildbin-libdir StartedAt: 2025-04-22 00:58:42 -0400 (Tue, 22 Apr 2025) EndedAt: 2025-04-22 00:59:13 -0400 (Tue, 22 Apr 2025) EllapsedTime: 31.2 seconds RetCode: 0 Status: OK PackageFile: omicade4_1.48.0.tgz PackageFileSize: 612.3 KiB