Package: omicRexposome Version: 1.32.0 Command: rm -rf omicRexposome.buildbin-libdir && mkdir omicRexposome.buildbin-libdir && /Users/biocbuild/BBS/utils/build-universal.sh omicRexposome_1.32.0.tar.gz /Library/Frameworks/R.framework/Resources/bin/R omicRexposome.buildbin-libdir StartedAt: 2025-11-10 23:30:03 -0500 (Mon, 10 Nov 2025) EndedAt: 2025-11-10 23:30:25 -0500 (Mon, 10 Nov 2025) EllapsedTime: 21.4 seconds RetCode: 0 Status: OK PackageFile: omicRexposome_1.32.0.tgz PackageFileSize: 2.921 MiB