Package: omada Version: 1.12.0 Command: /Library/Frameworks/R.framework/Resources/bin/R CMD INSTALL omada StartedAt: 2025-11-02 15:06:28 -0500 (Sun, 02 Nov 2025) EndedAt: 2025-11-02 15:06:34 -0500 (Sun, 02 Nov 2025) EllapsedTime: 6.2 seconds RetCode: 0 Status: OK