Package: omada Version: 1.12.0 Command: /Library/Frameworks/R.framework/Resources/bin/R CMD build --keep-empty-dirs --no-resave-data omada StartedAt: 2025-11-03 17:14:24 -0500 (Mon, 03 Nov 2025) EndedAt: 2025-11-03 17:15:11 -0500 (Mon, 03 Nov 2025) EllapsedTime: 47.6 seconds RetCode: 0 Status: OK PackageFile: omada_1.12.0.tar.gz PackageFileSize: 203.3 KiB