Package: omada Version: 1.12.0 Command: rm -rf omada.buildbin-libdir && mkdir omada.buildbin-libdir && /Users/biocbuild/BBS/utils/build-universal.sh omada_1.12.0.tar.gz /Library/Frameworks/R.framework/Resources/bin/R omada.buildbin-libdir StartedAt: 2025-11-03 23:14:55 -0500 (Mon, 03 Nov 2025) EndedAt: 2025-11-03 23:15:01 -0500 (Mon, 03 Nov 2025) EllapsedTime: 6.2 seconds RetCode: 0 Status: OK PackageFile: omada_1.12.0.tgz PackageFileSize: 308.6 KiB