Package: omXplore Version: 1.4.0 Command: /home/biocbuild/bbs-3.22-bioc/R/bin/R CMD INSTALL omXplore StartedAt: 2025-11-14 15:40:50 -0500 (Fri, 14 Nov 2025) EndedAt: 2025-11-14 15:41:33 -0500 (Fri, 14 Nov 2025) EllapsedTime: 42.6 seconds RetCode: 0 Status: OK