Package: omXplore Version: 1.4.0 Command: /home/biocbuild/bbs-3.22-bioc/R/bin/R CMD build --keep-empty-dirs --no-resave-data --md5 omXplore StartedAt: 2025-11-14 19:11:00 -0500 (Fri, 14 Nov 2025) EndedAt: 2025-11-14 19:11:59 -0500 (Fri, 14 Nov 2025) EllapsedTime: 59.1 seconds RetCode: 0 Status: OK PackageFile: omXplore_1.4.0.tar.gz PackageFileSize: 2.014 MiB