Package: oligoClasses Version: 1.72.0 Command: /home/biocbuild/R/R/bin/R CMD INSTALL oligoClasses StartedAt: 2025-11-13 21:25:56 -0000 (Thu, 13 Nov 2025) EndedAt: 2025-11-13 21:26:46 -0000 (Thu, 13 Nov 2025) EllapsedTime: 50.4 seconds RetCode: 0 Status: OK