Package: oligoClasses Version: 1.72.0 Command: /home/biocbuild/R/R/bin/R CMD build --keep-empty-dirs --no-resave-data oligoClasses StartedAt: 2025-11-14 03:51:38 -0000 (Fri, 14 Nov 2025) EndedAt: 2025-11-14 03:51:40 -0000 (Fri, 14 Nov 2025) EllapsedTime: 2.0 seconds RetCode: 0 Status: OK PackageFile: oligoClasses_1.72.0.tar.gz PackageFileSize: 364.6 KiB