Package: oligoClasses Version: 1.72.0 Command: /home/biocbuild/bbs-3.22-bioc/R/bin/R CMD build --keep-empty-dirs --no-resave-data --md5 oligoClasses StartedAt: 2025-11-11 19:10:23 -0500 (Tue, 11 Nov 2025) EndedAt: 2025-11-11 19:10:24 -0500 (Tue, 11 Nov 2025) EllapsedTime: 1.0 seconds RetCode: 0 Status: OK PackageFile: oligoClasses_1.72.0.tar.gz PackageFileSize: 367.4 KiB