Package: oligoClasses Version: 1.70.0 Command: /home/biocbuild/bbs-3.21-bioc/R/bin/R CMD INSTALL oligoClasses StartedAt: 2025-10-15 15:19:18 -0400 (Wed, 15 Oct 2025) EndedAt: 2025-10-15 15:19:55 -0400 (Wed, 15 Oct 2025) EllapsedTime: 36.6 seconds RetCode: 0 Status: OK