Package: oligoClasses Version: 1.70.0 Command: /home/biocbuild/bbs-3.21-bioc/R/bin/R CMD build --keep-empty-dirs --no-resave-data oligoClasses StartedAt: 2025-10-15 18:55:10 -0400 (Wed, 15 Oct 2025) EndedAt: 2025-10-15 18:55:12 -0400 (Wed, 15 Oct 2025) EllapsedTime: 2.0 seconds RetCode: 0 Status: OK PackageFile: oligoClasses_1.70.0.tar.gz PackageFileSize: 364.6 KiB