Package: oligoClasses Version: 1.70.0 Command: /home/biocbuild/R/R/bin/R CMD INSTALL oligoClasses StartedAt: 2025-09-25 20:32:27 -0000 (Thu, 25 Sep 2025) EndedAt: 2025-09-25 20:33:22 -0000 (Thu, 25 Sep 2025) EllapsedTime: 54.2 seconds RetCode: 0 Status: OK