Package: oligoClasses Version: 1.70.0 Command: /home/biocbuild/R/R/bin/R CMD build --keep-empty-dirs --no-resave-data oligoClasses StartedAt: 2025-09-26 04:31:18 -0000 (Fri, 26 Sep 2025) EndedAt: 2025-09-26 04:31:20 -0000 (Fri, 26 Sep 2025) EllapsedTime: 2.0 seconds RetCode: 0 Status: OK PackageFile: oligoClasses_1.70.0.tar.gz PackageFileSize: 364.6 KiB