Package: oligoClasses Version: 1.70.0 Command: /Library/Frameworks/R.framework/Resources/bin/R CMD INSTALL oligoClasses StartedAt: 2025-04-21 15:12:50 -0400 (Mon, 21 Apr 2025) EndedAt: 2025-04-21 15:13:05 -0400 (Mon, 21 Apr 2025) EllapsedTime: 14.6 seconds RetCode: 0 Status: OK