Package: oligoClasses Version: 1.70.0 Maintainer: Benilton Carvalho and Robert Scharpf MaintainerEmail: rscharpf at jhsph.edu git_url: https://git.bioconductor.org/packages/oligoClasses git_branch: RELEASE_3_21 git_last_commit: 6ee1f06 git_last_commit_date: 2025-04-15 09:40:53 -0400 (Tue, 15 Apr 2025)