Back to Multiple platform build/check report for BioC 3.22:   simplified   long
ABCDEFGHIJKLMN[O]PQRSTUVWXYZ

This page was generated on 2025-11-14 11:57 -0500 (Fri, 14 Nov 2025).

HostnameOSArch (*)R versionInstalled pkgs
nebbiolo2Linux (Ubuntu 24.04.3 LTS)x86_644.5.1 Patched (2025-08-23 r88802) -- "Great Square Root" 4903
taishanLinux (openEuler 24.03 LTS)aarch644.5.0 (2025-04-11) -- "How About a Twenty-Six" 4668
Click on any hostname to see more info about the system (e.g. compilers)      (*) as reported by 'uname -p', except on Windows and Mac OS X

All results for package oligoClasses


To the developers/maintainers of the oligoClasses package:
- Allow up to 24 hours (and sometimes 48 hours) for your latest push to git@git.bioconductor.org:packages/oligoClasses.git to reflect on this report. See Troubleshooting Build Report for more information.
- Use the following Renviron settings to reproduce errors and warnings.
- If 'R CMD check' started to fail recently on the Linux builder(s) over a missing dependency, add the missing dependency to 'Suggests:' in your DESCRIPTION file. See Renviron.bioc for more information.

raw results

Package 1490/2361HostnameOS / ArchINSTALLBUILDCHECKBUILD BIN
oligoClasses 1.72.0  (landing page)
Benilton Carvalho and Robert Scharpf
Snapshot Date: 2025-11-13 13:45 -0500 (Thu, 13 Nov 2025)
git_url: https://git.bioconductor.org/packages/oligoClasses
git_branch: RELEASE_3_22
git_last_commit: d8ec574
git_last_commit_date: 2025-10-29 09:59:50 -0500 (Wed, 29 Oct 2025)
nebbiolo2Linux (Ubuntu 24.04.3 LTS) / x86_64  OK    OK    WARNINGS  UNNEEDED, same version is already published
taishanLinux (openEuler 24.03 LTS) / aarch64  OK    OK    WARNINGS  



Results for Bioconductor software packages that depend directly on package oligoClasses

QUICK STATSOS / ArchINSTALLBUILDCHECKBUILD BIN
nebbiolo2Linux (Ubuntu 24.04.3 LTS) / x86_64
0012
0012
00210
taishanLinux (openEuler 24.03 LTS) / aarch64
0012
0012
0129
Package 1/12HostnameOS / ArchINSTALLBUILDCHECKBUILD BIN
affycoretools 1.82.0  (landing page)
James W. MacDonald
git_last_commit: c96a089
git_last_commit_date: 2025-10-29 09:57:11 -0500
nebbiolo2Linux (Ubuntu 24.04.3 LTS) / x86_64  OK    OK    OK  UNNEEDED, same version is already published
taishanLinux (openEuler 24.03 LTS) / aarch64  OK    OK    OK  
Package 2/12HostnameOS / ArchINSTALLBUILDCHECKBUILD BIN
cn.farms 1.58.0  (landing page)
Andreas Mitterecker
git_last_commit: 547c019
git_last_commit_date: 2025-10-29 10:07:06 -0500
nebbiolo2Linux (Ubuntu 24.04.3 LTS) / x86_64  OK    OK    OK  UNNEEDED, same version is already published
taishanLinux (openEuler 24.03 LTS) / aarch64  OK    OK    OK  
Package 3/12HostnameOS / ArchINSTALLBUILDCHECKBUILD BIN
crlmm 1.68.0  (landing page)
Benilton S Carvalho
git_last_commit: 7d8b5c6
git_last_commit_date: 2025-10-29 10:02:32 -0500
nebbiolo2Linux (Ubuntu 24.04.3 LTS) / x86_64  OK    OK    WARNINGS  UNNEEDED, same version is already published
taishanLinux (openEuler 24.03 LTS) / aarch64  OK    OK    WARNINGS  
Package 4/12HostnameOS / ArchINSTALLBUILDCHECKBUILD BIN
frma 1.62.0  (landing page)
Matthew N. McCall
git_last_commit: 166b917
git_last_commit_date: 2025-10-29 10:04:07 -0500
nebbiolo2Linux (Ubuntu 24.04.3 LTS) / x86_64  OK    OK    OK  UNNEEDED, same version is already published
taishanLinux (openEuler 24.03 LTS) / aarch64  OK    OK    OK  
Package 5/12HostnameOS / ArchINSTALLBUILDCHECKBUILD BIN
ITALICS 2.70.0  (landing page)
Guillem Rigaill
git_last_commit: 4a9bedd
git_last_commit_date: 2025-10-29 10:01:06 -0500
nebbiolo2Linux (Ubuntu 24.04.3 LTS) / x86_64  OK    OK    OK  UNNEEDED, same version is already published
taishanLinux (openEuler 24.03 LTS) / aarch64  OK    OK    OK  
Package 6/12HostnameOS / ArchINSTALLBUILDCHECKBUILD BIN
mBPCR 1.64.0  (landing page)
P.M.V. Rancoita
git_last_commit: 26b7f88
git_last_commit_date: 2025-10-29 10:03:21 -0500
nebbiolo2Linux (Ubuntu 24.04.3 LTS) / x86_64  OK    OK    OK  UNNEEDED, same version is already published
taishanLinux (openEuler 24.03 LTS) / aarch64  OK    OK    OK  
Package 7/12HostnameOS / ArchINSTALLBUILDCHECKBUILD BIN
mimager 1.34.0  (landing page)
Aaron Wolen
git_last_commit: f6a1e99
git_last_commit_date: 2025-10-29 10:36:18 -0500
nebbiolo2Linux (Ubuntu 24.04.3 LTS) / x86_64  OK    OK    OK  UNNEEDED, same version is already published
taishanLinux (openEuler 24.03 LTS) / aarch64  OK    OK    OK  
Package 8/12HostnameOS / ArchINSTALLBUILDCHECKBUILD BIN
MinimumDistance 1.54.0  (landing page)
Robert Scharpf
git_last_commit: ac79af7
git_last_commit_date: 2025-10-29 10:10:57 -0500
nebbiolo2Linux (Ubuntu 24.04.3 LTS) / x86_64  OK    OK    WARNINGS  UNNEEDED, same version is already published
taishanLinux (openEuler 24.03 LTS) / aarch64  OK    OK    WARNINGS  
Package 9/12HostnameOS / ArchINSTALLBUILDCHECKBUILD BIN
oligo 1.74.0  (landing page)
Benilton Carvalho
git_last_commit: 03318a4
git_last_commit_date: 2025-10-29 09:56:42 -0500
nebbiolo2Linux (Ubuntu 24.04.3 LTS) / x86_64  OK    OK    OK  UNNEEDED, same version is already published
taishanLinux (openEuler 24.03 LTS) / aarch64  OK    OK    ERROR  
Package 10/12HostnameOS / ArchINSTALLBUILDCHECKBUILD BIN
pdInfoBuilder 1.74.0  (landing page)
Benilton Carvalho
git_last_commit: 4ce36e7
git_last_commit_date: 2025-10-29 09:58:52 -0500
nebbiolo2Linux (Ubuntu 24.04.3 LTS) / x86_64  OK    OK    OK  UNNEEDED, same version is already published
taishanLinux (openEuler 24.03 LTS) / aarch64  OK    OK    OK  
Package 11/12HostnameOS / ArchINSTALLBUILDCHECKBUILD BIN
puma 3.52.0  (landing page)
Xuejun Liu
git_last_commit: fa4369b
git_last_commit_date: 2025-10-29 09:59:30 -0500
nebbiolo2Linux (Ubuntu 24.04.3 LTS) / x86_64  OK    OK    OK  UNNEEDED, same version is already published
taishanLinux (openEuler 24.03 LTS) / aarch64  OK    OK    OK  
Package 12/12HostnameOS / ArchINSTALLBUILDCHECKBUILD BIN
VanillaICE 1.72.0  (landing page)
Robert Scharpf
git_last_commit: c1e8f15
git_last_commit_date: 2025-10-29 09:59:52 -0500
nebbiolo2Linux (Ubuntu 24.04.3 LTS) / x86_64  OK    OK    OK  UNNEEDED, same version is already published
taishanLinux (openEuler 24.03 LTS) / aarch64  OK    OK    OK