Package: oligo Version: 1.74.0 Command: /home/biocbuild/bbs-3.22-bioc/R/bin/R CMD INSTALL oligo StartedAt: 2025-11-02 15:29:42 -0500 (Sun, 02 Nov 2025) EndedAt: 2025-11-02 15:30:29 -0500 (Sun, 02 Nov 2025) EllapsedTime: 46.7 seconds RetCode: 0 Status: OK