Package: odseq Version: 1.36.0 Command: /home/biocbuild/R/R/bin/R CMD build --keep-empty-dirs --no-resave-data odseq StartedAt: 2025-10-14 03:08:17 -0000 (Tue, 14 Oct 2025) EndedAt: 2025-10-14 03:09:07 -0000 (Tue, 14 Oct 2025) EllapsedTime: 50.1 seconds RetCode: 0 Status: OK PackageFile: odseq_1.36.0.tar.gz PackageFileSize: 200 KiB