Package: octad Version: 1.12.0 Command: /home/biocbuild/bbs-3.22-bioc/R/bin/R CMD check --install=check:octad.install-out.txt --library=/home/biocbuild/bbs-3.22-bioc/R/site-library --timings octad_1.12.0.tar.gz StartedAt: 2025-11-15 02:31:57 -0500 (Sat, 15 Nov 2025) EndedAt: 2025-11-15 02:45:14 -0500 (Sat, 15 Nov 2025) EllapsedTime: 797.0 seconds RetCode: 0 Status: OK CheckDir: octad.Rcheck Warnings: 0