Package: octad Version: 1.10.0 Command: /home/biocbuild/bbs-3.21-bioc/R/bin/R CMD build --keep-empty-dirs --no-resave-data octad StartedAt: 2025-10-15 18:54:44 -0400 (Wed, 15 Oct 2025) EndedAt: 2025-10-15 18:58:13 -0400 (Wed, 15 Oct 2025) EllapsedTime: 209.2 seconds RetCode: 0 Status: OK PackageFile: octad_1.10.0.tar.gz PackageFileSize: 1.328 MiB