Package: octad Version: 1.12.0 Command: /Library/Frameworks/R.framework/Resources/bin/R CMD build --keep-empty-dirs --no-resave-data octad StartedAt: 2025-11-03 18:03:59 -0500 (Mon, 03 Nov 2025) EndedAt: 2025-11-03 18:09:19 -0500 (Mon, 03 Nov 2025) EllapsedTime: 319.9 seconds RetCode: 0 Status: OK PackageFile: octad_1.12.0.tar.gz PackageFileSize: 1.311 MiB