Package: octad Version: 1.10.0 Command: /home/biocbuild/R/R/bin/R CMD build --keep-empty-dirs --no-resave-data octad StartedAt: 2025-10-07 03:12:39 -0000 (Tue, 07 Oct 2025) EndedAt: 2025-10-07 03:19:56 -0000 (Tue, 07 Oct 2025) EllapsedTime: 437.7 seconds RetCode: 0 Status: OK PackageFile: octad_1.10.0.tar.gz PackageFileSize: 1.349 MiB