Package: octad Version: 1.12.0 Command: /Library/Frameworks/R.framework/Resources/bin/R CMD INSTALL octad StartedAt: 2025-11-20 19:07:47 -0500 (Thu, 20 Nov 2025) EndedAt: 2025-11-20 19:08:52 -0500 (Thu, 20 Nov 2025) EllapsedTime: 65.2 seconds RetCode: 0 Status: OK