Package: octad Version: 1.12.0 Command: /Library/Frameworks/R.framework/Resources/bin/R CMD build --keep-empty-dirs --no-resave-data octad StartedAt: 2025-11-21 06:31:01 -0500 (Fri, 21 Nov 2025) EndedAt: 2025-11-21 06:35:57 -0500 (Fri, 21 Nov 2025) EllapsedTime: 295.2 seconds RetCode: 0 Status: OK PackageFile: octad_1.12.0.tar.gz PackageFileSize: 1.428 MiB