Package: octad Version: 1.12.0 Command: rm -rf octad.buildbin-libdir && mkdir octad.buildbin-libdir && /Users/biocbuild/BBS/utils/build-universal.sh octad_1.12.0.tar.gz /Library/Frameworks/R.framework/Resources/bin/R octad.buildbin-libdir StartedAt: 2025-11-23 10:17:06 -0500 (Sun, 23 Nov 2025) EndedAt: 2025-11-23 10:18:48 -0500 (Sun, 23 Nov 2025) EllapsedTime: 102.2 seconds RetCode: 0 Status: OK PackageFile: octad_1.12.0.tgz PackageFileSize: 1.502 MiB