Package: occugene Version: 1.70.0 Command: /home/biocbuild/bbs-3.22-bioc/R/bin/R CMD INSTALL occugene StartedAt: 2025-11-11 15:06:08 -0500 (Tue, 11 Nov 2025) EndedAt: 2025-11-11 15:06:10 -0500 (Tue, 11 Nov 2025) EllapsedTime: 2.1 seconds RetCode: 0 Status: OK