Package: nullranges Version: 1.16.0 Command: /home/biocbuild/R/R/bin/R CMD INSTALL nullranges StartedAt: 2025-11-10 21:42:21 -0000 (Mon, 10 Nov 2025) EndedAt: 2025-11-10 21:43:13 -0000 (Mon, 10 Nov 2025) EllapsedTime: 52.0 seconds RetCode: 0 Status: OK