Package: nullranges Version: 1.16.0 Command: /home/biocbuild/R/R/bin/R CMD build --keep-empty-dirs --no-resave-data nullranges StartedAt: 2025-11-11 03:48:12 -0000 (Tue, 11 Nov 2025) EndedAt: 2025-11-11 03:51:56 -0000 (Tue, 11 Nov 2025) EllapsedTime: 224.1 seconds RetCode: 0 Status: OK PackageFile: nullranges_1.16.0.tar.gz PackageFileSize: 4.437 MiB