Package: nullranges Version: 1.16.0 Command: /home/biocbuild/bbs-3.22-bioc/R/bin/R CMD build --keep-empty-dirs --no-resave-data --md5 nullranges StartedAt: 2025-11-11 19:09:51 -0500 (Tue, 11 Nov 2025) EndedAt: 2025-11-11 19:12:14 -0500 (Tue, 11 Nov 2025) EllapsedTime: 143.2 seconds RetCode: 0 Status: OK PackageFile: nullranges_1.16.0.tar.gz PackageFileSize: 4.789 MiB