Package: nullranges Version: 1.14.0 Command: /Library/Frameworks/R.framework/Resources/bin/R CMD build --keep-empty-dirs --no-resave-data nullranges StartedAt: 2025-10-13 21:11:58 -0400 (Mon, 13 Oct 2025) EndedAt: 2025-10-13 21:16:56 -0400 (Mon, 13 Oct 2025) EllapsedTime: 298.2 seconds RetCode: 0 Status: OK PackageFile: nullranges_1.14.0.tar.gz PackageFileSize: 5.058 MiB