Package: nullranges Version: 1.14.0 Command: rm -rf nullranges.buildbin-libdir && mkdir nullranges.buildbin-libdir && /Users/biocbuild/BBS/utils/build-universal.sh nullranges_1.14.0.tar.gz /Library/Frameworks/R.framework/Resources/bin/R nullranges.buildbin-libdir StartedAt: 2025-10-14 14:16:54 -0400 (Tue, 14 Oct 2025) EndedAt: 2025-10-14 14:18:40 -0400 (Tue, 14 Oct 2025) EllapsedTime: 106.2 seconds RetCode: 0 Status: OK PackageFile: nullranges_1.14.0.tgz PackageFileSize: 5.011 MiB