Package: nucleoSim Version: 1.38.0 Command: /home/biocbuild/bbs-3.22-bioc/R/bin/R CMD INSTALL nucleoSim StartedAt: 2025-11-11 16:02:42 -0500 (Tue, 11 Nov 2025) EndedAt: 2025-11-11 16:02:49 -0500 (Tue, 11 Nov 2025) EllapsedTime: 7.1 seconds RetCode: 0 Status: OK