Package: nucleoSim Version: 1.38.0 Command: /home/biocbuild/bbs-3.22-bioc/R/bin/R CMD check --install=check:nucleoSim.install-out.txt --library=/home/biocbuild/bbs-3.22-bioc/R/site-library --timings nucleoSim_1.38.0.tar.gz StartedAt: 2025-11-12 02:15:00 -0500 (Wed, 12 Nov 2025) EndedAt: 2025-11-12 02:15:54 -0500 (Wed, 12 Nov 2025) EllapsedTime: 54.1 seconds RetCode: 0 Status: OK CheckDir: nucleoSim.Rcheck Warnings: 0