Package: nucleoSim Version: 1.36.0 Command: rm -rf nucleoSim.buildbin-libdir && mkdir nucleoSim.buildbin-libdir && /Users/biocbuild/BBS/utils/build-universal.sh nucleoSim_1.36.0.tar.gz /Library/Frameworks/R.framework/Resources/bin/R nucleoSim.buildbin-libdir StartedAt: 2025-04-22 00:58:32 -0400 (Tue, 22 Apr 2025) EndedAt: 2025-04-22 00:58:43 -0400 (Tue, 22 Apr 2025) EllapsedTime: 11.7 seconds RetCode: 0 Status: OK PackageFile: nucleoSim_1.36.0.tgz PackageFileSize: 495.2 KiB