Package: nucleoSim Version: 1.36.0 Command: /home/biocbuild/R/R/bin/R CMD INSTALL nucleoSim StartedAt: 2025-09-29 20:27:20 -0000 (Mon, 29 Sep 2025) EndedAt: 2025-09-29 20:27:29 -0000 (Mon, 29 Sep 2025) EllapsedTime: 8.8 seconds RetCode: 0 Status: OK