Package: nucleoSim Version: 1.36.0 Command: /home/biocbuild/R/R/bin/R CMD build --keep-empty-dirs --no-resave-data nucleoSim StartedAt: 2025-10-03 03:08:01 -0000 (Fri, 03 Oct 2025) EndedAt: 2025-10-03 03:08:23 -0000 (Fri, 03 Oct 2025) EllapsedTime: 22.0 seconds RetCode: 0 Status: OK PackageFile: nucleoSim_1.36.0.tar.gz PackageFileSize: 467.4 KiB