Package: nucleoSim Version: 1.36.0 Command: /Library/Frameworks/R.framework/Resources/bin/R CMD INSTALL nucleoSim StartedAt: 2025-10-13 18:26:04 -0400 (Mon, 13 Oct 2025) EndedAt: 2025-10-13 18:26:12 -0400 (Mon, 13 Oct 2025) EllapsedTime: 8.2 seconds RetCode: 0 Status: OK