Package: nucleoSim Version: 1.36.0 Command: rm -rf nucleoSim.buildbin-libdir && mkdir nucleoSim.buildbin-libdir && /Users/biocbuild/BBS/utils/build-universal.sh nucleoSim_1.36.0.tar.gz /Library/Frameworks/R.framework/Resources/bin/R nucleoSim.buildbin-libdir StartedAt: 2025-10-15 19:38:02 -0400 (Wed, 15 Oct 2025) EndedAt: 2025-10-15 19:38:11 -0400 (Wed, 15 Oct 2025) EllapsedTime: 9.1 seconds RetCode: 0 Status: OK PackageFile: nucleoSim_1.36.0.tgz PackageFileSize: 495.5 KiB