Package: nucleR Version: 2.42.0 Command: /home/biocbuild/R/R/bin/R CMD build --keep-empty-dirs --no-resave-data nucleR StartedAt: 2025-11-14 03:50:32 -0000 (Fri, 14 Nov 2025) EndedAt: 2025-11-14 03:52:02 -0000 (Fri, 14 Nov 2025) EllapsedTime: 90.0 seconds RetCode: 0 Status: OK PackageFile: nucleR_2.42.0.tar.gz PackageFileSize: 1.376 MiB