############################################################################## ############################################################################## ### ### Running command: ### ### /home/biocbuild/bbs-3.22-bioc/R/bin/R CMD INSTALL nucleR ### ############################################################################## ############################################################################## * installing to library ‘/home/biocbuild/bbs-3.22-bioc/R/site-library’ * installing *source* package ‘nucleR’ ... ** this is package ‘nucleR’ version ‘2.42.0’ ** using staged installation ** R ** data ** inst ** byte-compile and prepare package for lazy loading Loading required package: usethis Welcome at Tue Nov 11 15:56:28 2025 Goodbye at Tue Nov 11 15:56:41 2025 ** help *** installing help indices ** building package indices Loading required package: usethis Welcome at Tue Nov 11 15:56:42 2025 Goodbye at Tue Nov 11 15:56:42 2025 ** installing vignettes ** testing if installed package can be loaded from temporary location Loading required package: usethis Welcome at Tue Nov 11 15:56:43 2025 Goodbye at Tue Nov 11 15:56:55 2025 ** testing if installed package can be loaded from final location Loading required package: usethis Welcome at Tue Nov 11 15:56:56 2025 Goodbye at Tue Nov 11 15:57:08 2025 ** testing if installed package keeps a record of temporary installation path * DONE (nucleR)