Package: nucleR Version: 2.42.0 Command: /home/biocbuild/bbs-3.22-bioc/R/bin/R CMD check --install=check:nucleR.install-out.txt --library=/home/biocbuild/bbs-3.22-bioc/R/site-library --timings nucleR_2.42.0.tar.gz StartedAt: 2025-11-14 02:19:15 -0500 (Fri, 14 Nov 2025) EndedAt: 2025-11-14 02:24:07 -0500 (Fri, 14 Nov 2025) EllapsedTime: 292.3 seconds RetCode: 0 Status: WARNINGS CheckDir: nucleR.Rcheck Warnings: 1