Package: nucleR Version: 2.40.0 Command: /home/biocbuild/bbs-3.21-bioc/R/bin/R CMD INSTALL nucleR StartedAt: 2025-10-15 15:49:56 -0400 (Wed, 15 Oct 2025) EndedAt: 2025-10-15 15:50:30 -0400 (Wed, 15 Oct 2025) EllapsedTime: 34.7 seconds RetCode: 0 Status: OK