Package: nucleR Version: 2.40.0 Command: /home/biocbuild/bbs-3.21-bioc/R/bin/R CMD build --keep-empty-dirs --no-resave-data nucleR StartedAt: 2025-10-15 18:54:22 -0400 (Wed, 15 Oct 2025) EndedAt: 2025-10-15 18:55:23 -0400 (Wed, 15 Oct 2025) EllapsedTime: 61.1 seconds RetCode: 0 Status: OK PackageFile: nucleR_2.40.0.tar.gz PackageFileSize: 1.8 MiB