Package: nucleR Version: 2.40.0 Command: /home/biocbuild/R/R/bin/R CMD INSTALL nucleR StartedAt: 2025-09-25 21:08:55 -0000 (Thu, 25 Sep 2025) EndedAt: 2025-09-25 21:09:47 -0000 (Thu, 25 Sep 2025) EllapsedTime: 51.9 seconds RetCode: 0 Status: OK