Package: nucleR Version: 2.40.0 Command: /home/biocbuild/R/R/bin/R CMD build --keep-empty-dirs --no-resave-data nucleR StartedAt: 2025-09-26 04:30:14 -0000 (Fri, 26 Sep 2025) EndedAt: 2025-09-26 04:32:15 -0000 (Fri, 26 Sep 2025) EllapsedTime: 121.2 seconds RetCode: 0 Status: OK PackageFile: nucleR_2.40.0.tar.gz PackageFileSize: 1.758 MiB