Package: nucleR Version: 2.40.0 Command: /Library/Frameworks/R.framework/Resources/bin/R CMD build --keep-empty-dirs --no-resave-data nucleR StartedAt: 2025-10-14 05:48:54 -0400 (Tue, 14 Oct 2025) EndedAt: 2025-10-14 05:50:11 -0400 (Tue, 14 Oct 2025) EllapsedTime: 76.8 seconds RetCode: 0 Status: OK PackageFile: nucleR_2.40.0.tar.gz PackageFileSize: 1.841 MiB