Package: nuCpos Version: 1.28.0 Command: /home/biocbuild/R/R/bin/R CMD INSTALL nuCpos StartedAt: 2025-11-20 21:46:01 -0000 (Thu, 20 Nov 2025) EndedAt: 2025-11-20 21:46:28 -0000 (Thu, 20 Nov 2025) EllapsedTime: 26.5 seconds RetCode: 0 Status: OK