Package: nuCpos Version: 1.28.0 Command: /home/biocbuild/R/R/bin/R CMD build --keep-empty-dirs --no-resave-data nuCpos StartedAt: 2025-11-21 04:28:24 -0000 (Fri, 21 Nov 2025) EndedAt: 2025-11-21 04:28:37 -0000 (Fri, 21 Nov 2025) EllapsedTime: 13.0 seconds RetCode: 0 Status: OK PackageFile: nuCpos_1.28.0.tar.gz PackageFileSize: 2.386 MiB